BEGIN:VCALENDAR
VERSION:2.0
PRODID:-//CiviCRM//NONSGML CiviEvent iCal//EN
X-WR-TIMEZONE:Europe/London
METHOD:PUBLISH
BEGIN:VTIMEZONE
TZID:Europe/London
BEGIN:DAYLIGHT
TZOFFSETFROM:+0100
TZOFFSETTO:+0100
TZNAME:BST
DTSTART:20260506T090000
END:DAYLIGHT
END:VTIMEZONE
BEGIN:VEVENT
UID:CiviCRM_EventID_4026_e520bbcb796ef54af9c451bf4b617fe7@portal.niab.com
SUMMARY:Scoring and Assessing Cereal Diseases in Variety a
 nd Agrochemical Field Trials
CATEGORIES:Crop Protection
CALSCALE:GREGORIAN
DTSTAMP;TZID=Europe/London:20260506T090000
DTSTART;TZID=Europe/London:20260506T090000
DTEND;TZID=Europe/London:20260506T163000
LOCATION:(Niab Technical Training) - Classroom\n Niab\, Sop
 hi Taylor Building\,\n Park Farm\, Villa Road\,\n 
 Histon\,\n Cambridge\n CB24 9NZ\n United Kingdom\n
  
URL:https://portal.niab.com/civicrm/event/info?reset=1&id=4026
END:VEVENT
END:VCALENDAR
